BEGIN:VCALENDAR
VERSION:2.0
PRODID:DPCALENDAR
CALSCALE:GREGORIAN
BEGIN:VTIMEZONE
TZID:Europe/Rome
BEGIN:STANDARD
DTSTART:20251026T010000
TZOFFSETFROM:+0200
TZOFFSETTO:+0100
TZNAME:CET
END:STANDARD
BEGIN:STANDARD
DTSTART:20261025T010000
TZOFFSETFROM:+0200
TZOFFSETTO:+0100
TZNAME:CET
END:STANDARD
BEGIN:DAYLIGHT
DTSTART:20260329T010000
TZOFFSETFROM:+0100
TZOFFSETTO:+0200
TZNAME:CEST
END:DAYLIGHT
END:VTIMEZONE
X-WR-TIMEZONE:Europe/Rome
BEGIN:VEVENT
DTSTART;TZID=Europe/Rome:20240612T080000
DTEND;TZID=Europe/Rome:20240612T120000
UID:C4679F7E-CB44-4B83-8025-5A398E4A2358
SUMMARY:Test Evento
CREATED:20240612T060409Z
DTSTAMP:20240612T060409Z
DESCRIPTION:
X-ALT-DESC;FMTTYPE=text/html:
X-ACCESS:1
X-HITS:2
X-URL:https://www.unionerenolavinosamoggia.bo.it/ucrls16/index.php?option=com_dpcalendar&view=event&id=1&calid=588
X-COLOR:3366cc
X-SHOW-END-TIME:1
END:VEVENT
BEGIN:VEVENT
DTSTART;TZID=Europe/Rome:20240925T180000
DTEND;TZID=Europe/Rome:20240925T193000
UID:ACE3AA2A-DB02-4F47-AFAD-9BE5DB9B3023
SUMMARY:Gruppi di Parola per figli di genitori separati
CREATED:20240917T122722Z
DTSTAMP:20240917T122722Z
DESCRIPTION:
X-ALT-DESC;FMTTYPE=text/html:
LAST-MODIFIED:20240917T123854Z
SEQUENCE:692
X-ACCESS:1
X-HITS:1
X-URL:https://www.unionerenolavinosamoggia.bo.it/index.php/archivio-notizie/4290-gruppi-di-parola-unione-figli-genitori-separati
X-COLOR:3366cc
X-SHOW-END-TIME:1
END:VEVENT
BEGIN:VEVENT
DTSTART;TZID=Europe/Rome:20251223T140000
DTEND;TZID=Europe/Rome:20251223T160000
UID:FC4CF5D4-2250-4405-BEEB-9199B5E4D360
SUMMARY:Il tè del giovedì
CREATED:20251222T155424Z
DTSTAMP:20251222T155424Z
DESCRIPTION:Dal 4 dicembre al 5 marzo quattro momenti di condivisione e confronto tra donne davanti a una tazza di tè.\NCalendario incontri:\N\Ngiovedì 4 dicembre 2025\Ngiovedì 8 gennaio 2026\Ngiovedì 5 febbraio 2026\Ngiovedì 5 marzo 2026\N\Ndalle ore 14.00 alle ore 16.00 presso lo Spazio Senza Traccia a Casalecchio di Reno (via Garibaldi, 42 - ingresso da via Fratelli Bandiera, 4)\NPer informazioni:\NVeronica - 338/5209939 Stazione di Posta - 331/3601546\NVolantino (pdf)\NIniziativa promossa dall’Associazione Mondo Donna Onlus nell’ambito del Progetto Stazione di Posta di Casalecchio di Reno.\NLa Stazione di Posta è un luogo di incontro che offre servizi di orientamento, ascolto, accompagnamento alla rete dei servizi esistenti ma anche di attuare servizi innovativi per affrontare situazioni di pesante marginalità, ottimizzando inoltre l’utilizzo di altre risorse dedicate al contrasto alla povertà.Progetto PNRR Stazione di Posta\NVolantino Progetto Stazione di Posta (pdf)Pieghevole Stazione di Posta (pdf)Il tè del giovedì
X-ALT-DESC;FMTTYPE=text/html:<p>Dal 4 dicembre al 5 marzo quattro momenti di condivisione e confronto tra donne davanti a una tazza di tè.</p><p>Calendario incontri:</p><ul><li><strong>giovedì 4 dicembre 2025</strong></li><li><b>giovedì 8 gennaio 2026</b></li><li><b>giovedì 5 febbraio 2026</b></li><li><b>giovedì 5 marzo 2026</b></li></ul><div>dalle&nbsp;<strong>ore 14.00 alle ore 16.00</strong>&nbsp;presso lo Spazio<b>&nbsp;Senza Traccia</b>&nbsp;a<b>&nbsp;Casalecchio di Reno</b>&nbsp;(via Garibaldi, 42 - ingresso da via Fratelli Bandiera, 4)<br /><br /></div><div><strong>Per informazioni:</strong></div><div>Veronica - 338/5209939&nbsp;<br />Stazione di Posta - 331/3601546</div><p><a href="images/UCRLS_2025/Notizie/Il-te-de-giovedi/IL_TE_DEL_GIOVED%C3%AC.pdf">Volantino</a>&nbsp;(pdf)</p><p>Iniziativa promossa dall’Associazione&nbsp;<strong><a href="https://www.mondodonna-onlus.it/" target="_blank" rel="noopener" title="Mondo Donna Onlus">Mondo Donna Onlus</a></strong>&nbsp;nell’ambito del&nbsp;<strong><a href="index.php/pnrr-per-il-sociale/1-3-2-stazioni-di-posta" target="_balnk" title="Progetto Stazione di Posta">Progetto Stazione di Posta</a></strong>&nbsp;di Casalecchio di Reno.</p><p>La&nbsp;<strong>Stazione di Posta</strong>&nbsp;è un luogo di incontro che offre<b>&nbsp;servizi di orientamento, ascolto, accompagnamento alla rete dei servizi esistenti</b>&nbsp;ma anche di attuare&nbsp;<b>servizi innovativi per affrontare situazioni di pesante marginalità</b>, ottimizzando inoltre l’utilizzo di altre risorse dedicate al contrasto alla povertà.<br /><strong><a href="index.php/pnrr-per-il-sociale/1-3-2-stazioni-di-posta">Progetto PNRR Stazione di Posta</a></strong></p><p><a href="images/UCRLS_2025/Notizie/Il-te-de-giovedi/2025__REV_STAZIONE_DI_POSTA_-_pieghevole.pdf">Volantino Progetto Stazione di Posta</a>&nbsp;(pdf)<br /><a href="images/UCRLS_2025/Notizie/Il-te-de-giovedi/A5_STAZIONE_DI_POSTA_TEMPORANEA-2.pdf">Pieghevole Stazione di Posta</a>&nbsp;(pdf)<a href="index.php?option=com_content&amp;view=article&amp;id=4628&amp;catid=515">Il tè del giovedì</a></p>
LOCATION:42 via Garibaldi\, Casalecchio di reno\, 40033
GEO:44.47973407;11.27824076
LAST-MODIFIED:20251222T161843Z
SEQUENCE:1459
X-ACCESS:1
X-HITS:0
X-URL:https://www.unionerenolavinosamoggia.bo.it/ucrls16/index.php?option=com_dpcalendar&view=event&id=7&calid=588
X-COLOR:00812c
X-SHOW-END-TIME:1
END:VEVENT
BEGIN:VEVENT
DTSTART;TZID=Europe/Rome:20260416T180000
DTEND;TZID=Europe/Rome:20260416T200000
UID:03C12B81-263E-4AA0-8803-A1EF82119F4D
SUMMARY:Regaz in cucina
CREATED:20260415T092133Z
DTSTAMP:20260415T092133Z
DESCRIPTION:Mini corsi di cucina per ragazze e ragazzi a cura dei volontari dei Centri socio culturali di Zola Predosa.\NCrescentine e piadine\N16 Aprile - ore 18.00\NCentro ''Pertini'' - via Raibolini, 44 Zola Predosa\Nmaggiori informazioni
X-ALT-DESC;FMTTYPE=text/html:<p>Mini corsi di cucina per ragazze e ragazzi a cura dei volontari dei Centri socio culturali di Zola Predosa.</p><p><strong>Crescentine e piadine</strong></p><p>16 Aprile - ore 18.00</p><p>Centro ''Pertini'' - via Raibolini, 44 Zola Predosa</p><p><a href="index.php?option=com_content&amp;view=article&amp;id=4673:regaz-in-cucina&amp;catid=515">maggiori informazioni</a></p>
LOCATION:44 Via Raibolini\, Zola Predosa\, Bologna 40069\, Italia
GEO:44.49174304;11.20768265
LAST-MODIFIED:20260424T123545Z
SEQUENCE:789252
X-ACCESS:1
X-HITS:0
X-URL:https://www.unionerenolavinosamoggia.bo.it/ucrls16/index.php?option=com_dpcalendar&view=event&id=10&calid=588
X-COLOR:de3333
X-SHOW-END-TIME:1
END:VEVENT
BEGIN:VEVENT
DTSTART;TZID=Europe/Rome:20260424T130000
DTEND;TZID=Europe/Rome:20260424T140000
UID:A16331CB-E37E-4B95-9040-5C77CE008925
SUMMARY:Regaz in cucina
CREATED:20260424T111738Z
DTSTAMP:20260424T111738Z
DESCRIPTION:Mini corsi di cucina per ragazze e ragazzi a cura dei volontari dei Centri socio culturali di Zola Predosa.\NTortellini e Tortelloni\Nmaggiori informazioni
X-ALT-DESC;FMTTYPE=text/html:<p>Mini corsi di cucina per ragazze e ragazzi a cura dei volontari dei Centri socio culturali di Zola Predosa.</p><p><strong>Tortellini e Tortelloni</strong></p><p><a href="index.php?option=com_content&amp;view=article&amp;id=4673:regaz-in-cucina&amp;catid=515">maggiori informazioni</a></p>
LOCATION:81/3 Via Madonna Dei Prati\, Zola Predosa\, Bologna 40069\, Italia
GEO:0.00000000;0.00000000
LAST-MODIFIED:20260424T123504Z
SEQUENCE:4646
X-ACCESS:1
X-HITS:0
X-URL:https://www.unionerenolavinosamoggia.bo.it/ucrls16/index.php?option=com_dpcalendar&view=event&id=16&calid=588
X-COLOR:de3333
X-SHOW-END-TIME:1
END:VEVENT
BEGIN:VEVENT
DTSTART;TZID=Europe/Rome:20260427T180000
DTEND;TZID=Europe/Rome:20260427T200000
UID:FF785B85-6484-4184-93EB-7699721E6B9E
SUMMARY:Regaz in cucina
CREATED:20260424T111029Z
DTSTAMP:20260424T111029Z
DESCRIPTION:Mini corsi di cucina per ragazze e ragazzi a cura dei volontari dei Centri socio culturali di Zola Predosa.\NSfoglia e tagliatelle\Nmaggiori informazioni
X-ALT-DESC;FMTTYPE=text/html:<p>Mini corsi di cucina per ragazze e ragazzi a cura dei volontari dei Centri socio culturali di Zola Predosa.</p><p><strong>Sfoglia e tagliatelle</strong></p><p><a href="index.php?option=com_content&amp;view=article&amp;id=4673:regaz-in-cucina&amp;catid=515">maggiori informazioni</a></p>
LOCATION:44 Via Raibolini\, Zola Predosa\, Bologna 40069\, Italia
GEO:44.49174304;11.20768265
LAST-MODIFIED:20260424T123513Z
SEQUENCE:5084
X-ACCESS:1
X-HITS:0
X-URL:https://www.unionerenolavinosamoggia.bo.it/ucrls16/index.php?option=com_dpcalendar&view=event&id=15&calid=588
X-COLOR:de3333
X-SHOW-END-TIME:0
END:VEVENT
BEGIN:VEVENT
DTSTART;TZID=Europe/Rome:20260430T163000
DTEND;TZID=Europe/Rome:20260430T183000
UID:9AC6C34A-C654-4C4D-AF3E-C7A6C66B3EAC
SUMMARY:Noi caregiver
CREATED:20260424T114835Z
DTSTAMP:20260424T114835Z
DESCRIPTION:Spazio di ascolto dedicato ai caregiver e alla persona di cui si prendono cura\NLocandina
X-ALT-DESC;FMTTYPE=text/html:<p>Spazio di ascolto dedicato ai caregiver e alla persona di cui si prendono cura</p><p><a href="images/UCRLS_2026/Notizie/calendario_spazio_dascolto_noi-caregiver_2025_-26.pdf">Locandina</a></p>
LOCATION:Piazza Rita Levi Montalcini\, Casalecchio di reno\, Bologna 40033\, Italia
GEO:44.47581444;11.27437897
LAST-MODIFIED:20260424T121359Z
SEQUENCE:1524
X-ACCESS:1
X-HITS:0
X-URL:https://www.unionerenolavinosamoggia.bo.it/ucrls16/index.php?option=com_dpcalendar&view=event&id=17&calid=588
X-COLOR:3366cc
X-SHOW-END-TIME:1
END:VEVENT
BEGIN:VEVENT
DTSTART;TZID=Europe/Rome:20260506T100000
DTEND;TZID=Europe/Rome:20260506T120000
UID:87E2DDB9-2CC9-4BF4-B28D-33079C8B8F0F
SUMMARY:Noi cargiver
CREATED:20260424T121125Z
DTSTAMP:20260424T121125Z
DESCRIPTION:Spazio di ascolto dedicato ai caregiver e alla persona di cui si prendono cura\NLocandina
X-ALT-DESC;FMTTYPE=text/html:<p>Spazio di ascolto dedicato ai caregiver e alla persona di cui si prendono cura</p><p><strong><a href="images/UCRLS_2026/Notizie/calendario_spazio_dascolto_noi-caregiver_2025_-26.pdf">Locandina</a></strong></p>
LOCATION:4  via Giovanni Sarti\, Crespellano\, Bologna Italia
GEO:44.51437288;11.12937900
LAST-MODIFIED:20260424T121345Z
SEQUENCE:140
X-ACCESS:1
X-HITS:0
X-URL:https://www.unionerenolavinosamoggia.bo.it/ucrls16/index.php?option=com_dpcalendar&view=event&id=18&calid=588
X-COLOR:3366cc
X-SHOW-END-TIME:1
END:VEVENT
BEGIN:VEVENT
DTSTART;TZID=Europe/Rome:20260506T170000
DTEND;TZID=Europe/Rome:20260506T190000
UID:E7D5324D-1CE8-40D6-A0EF-AD4A189D909F
SUMMARY:Caregiver Day 2026
CREATED:20260424T095705Z
DTSTAMP:20260424T095705Z
DESCRIPTION:Primo appuntamento della ressegna Cargiver Day 2026, un ciclo di incontri promosso sul territorio da ASC InSieme, in collaborazione con l'Azienda USL di Bologna Distretto Reno Lavino Samoggia con l’obiettivo di riconoscere, sostenere e valorizzare il ruolo dei/delle caregiver, figure fondamentali nella rete della cura.\NTema dell'incontro: \NCostruire relazioni di reciprocità nella cura tra persone assistite, caregiver, assistenti familiari e servizi territoriali\Na cura di Barbara Donattini - coordinatrice area anziani ASC lnSieme e Valentina Monari - assistente sociale area anziani ASC lnSieme\Nvai alla notizia
X-ALT-DESC;FMTTYPE=text/html:<p>Primo appuntamento della ressegna&nbsp;<strong>Cargiver Day 2026</strong>, un ciclo di incontri promosso sul&nbsp;territorio da ASC InSieme, in collaborazione con l'Azienda USL di Bologna Distretto Reno&nbsp;Lavino Samoggia con l’obiettivo di&nbsp;<strong>riconoscere, sostenere e valorizzare il ruolo dei/delle&nbsp;caregiver, figure fondamentali nella rete della cura</strong>.</p><p>Tema dell'incontro:&nbsp;</p><p><strong>Costruire relazioni di reciprocità nella cura&nbsp;tra persone assistite, caregiver, assistenti familiari e servizi territoriali</strong></p><p>a cura di Barbara Donattini - coordinatrice area anziani ASC lnSieme e Valentina Monari - assistente sociale area anziani ASC lnSieme</p><p><a href="index.php/archivio-notizie/4674-caregiver-day-2026">vai alla notizia</a></p>
LOCATION:1 Piazza della Repubblica\, Zola Predosa\, Bologna Italia
GEO:44.49239655;11.21829427
LAST-MODIFIED:20260424T123353Z
SEQUENCE:9408
X-ACCESS:1
X-HITS:0
X-URL:https://www.unionerenolavinosamoggia.bo.it/index.php/archivio-notizie/4674-caregiver-day-2026
X-COLOR:13cf1f
X-SHOW-END-TIME:1
END:VEVENT
BEGIN:VEVENT
DTSTART;TZID=Europe/Rome:20260512T100000
DTEND;TZID=Europe/Rome:20260512T120000
UID:47FD629D-4729-47D6-B38E-C641A4B3F7C2
SUMMARY:Noi caregiver
CREATED:20260424T123001Z
DTSTAMP:20260424T123001Z
DESCRIPTION:Spazio di ascolto dedicato ai caregiver e alla persona di cui si prendono cura\NLocandina
X-ALT-DESC;FMTTYPE=text/html:<p>Spazio di ascolto dedicato ai caregiver e alla persona di cui si prendono cura</p><p><strong><a href="images/UCRLS_2026/Notizie/calendario_spazio_dascolto_noi-caregiver_2025_-26.pdf">Locandina</a></strong></p>
LOCATION:11 Via Guido Bertacchi\, Sasso arconi\, Bologna 40037\, Italia
GEO:44.39597645;11.24345705
X-ACCESS:1
X-HITS:0
X-URL:https://www.unionerenolavinosamoggia.bo.it/ucrls16/index.php?option=com_dpcalendar&view=event&id=21&calid=588
X-COLOR:3366cc
X-SHOW-END-TIME:1
END:VEVENT
BEGIN:VEVENT
DTSTART;TZID=Europe/Rome:20260514T163000
DTEND;TZID=Europe/Rome:20260514T183000
UID:6CE36DD3-EAF0-425B-965A-1A109444297B
SUMMARY:Noi caregiver
CREATED:20260424T121533Z
DTSTAMP:20260424T121533Z
DESCRIPTION:Spazio di ascolto dedicato ai caregiver e alla persona di cui si prendono cura\NLocandina
X-ALT-DESC;FMTTYPE=text/html:<p>Spazio di ascolto dedicato ai caregiver e alla persona di cui si prendono cura</p><p><a href="images/UCRLS_2026/Notizie/calendario_spazio_dascolto_noi-caregiver_2025_-26.pdf">Locandina</a></p>
LOCATION:Piazza Rita Levi Montalcini\, Casalecchio di reno\, Bologna 40033\, Italia
GEO:44.47581444;11.27437897
X-ACCESS:1
X-HITS:0
X-URL:https://www.unionerenolavinosamoggia.bo.it/ucrls16/index.php?option=com_dpcalendar&view=event&id=19&calid=588
X-COLOR:3366cc
X-SHOW-END-TIME:1
END:VEVENT
BEGIN:VEVENT
DTSTART;TZID=Europe/Rome:20260514T170000
DTEND;TZID=Europe/Rome:20260514T190000
UID:1C2E45E8-1400-491C-8FBD-DADF27AF2166
SUMMARY:Caregiver Day 2026
CREATED:20260424T100618Z
DTSTAMP:20260424T100618Z
DESCRIPTION:Secondo appuntamento della ressegna Cargiver Day 2026, un ciclo di incontri promosso sul territorio da ASC InSieme, in collaborazione con l'Azienda USL di Bologna Distretto Reno Lavino Samoggia con l’obiettivo di riconoscere, sostenere e valorizzare il ruolo dei/delle caregiver, figure fondamentali nella rete della cura.\NTema dell'incontro: \NAffrontare la solitudine e l'isolamento sociale come questione di salute comunitaria\NUn'analisi delle buone pratiche per la promozione della connessione sociale, a cura di Aurora Ricci - Ricercatrice in Pedagogia Sperimentale, Dipartimento di Scienze dell'Educazione Università di Bologna. \Nincontro online su piattaforma Google Meet \Nvai alla notizia\N 
X-ALT-DESC;FMTTYPE=text/html:<p>Secondo appuntamento della ressegna&nbsp;<strong>Cargiver Day 2026</strong>, un ciclo di incontri promosso sul&nbsp;territorio da ASC InSieme, in collaborazione con l'Azienda USL di Bologna Distretto Reno&nbsp;Lavino Samoggia con l’obiettivo di&nbsp;<strong>riconoscere, sostenere e valorizzare il ruolo dei/delle&nbsp;caregiver, figure fondamentali nella rete della cura</strong>.</p><p>Tema dell'incontro:&nbsp;</p><p><strong>Affrontare la solitudine e l'isolamento sociale come questione di salute comunitaria</strong></p><p>Un'analisi delle buone pratiche per la promozione della connessione sociale,&nbsp;a cura di Aurora Ricci - Ricercatrice in Pedagogia Sperimentale, Dipartimento di Scienze dell'Educazione Università di Bologna.&nbsp;</p><p><a href="https://meet.google.com/wey-axqs-iwz" target="_blank" rel="noopener">incontro online</a>&nbsp;su piattaforma Google Meet&nbsp;</p><p><a href="index.php/archivio-notizie/4674-caregiver-day-2026">vai alla notizia</a></p><p>&nbsp;</p>
LOCATION:
GEO:0.00000000;0.00000000
LAST-MODIFIED:20260424T123412Z
SEQUENCE:8874
X-ACCESS:1
X-HITS:0
X-URL:https://www.unionerenolavinosamoggia.bo.it/index.php/archivio-notizie/4674-caregiver-day-2026
X-COLOR:13cf1f
X-SHOW-END-TIME:1
END:VEVENT
BEGIN:VEVENT
DTSTART;TZID=Europe/Rome:20260519T170000
DTEND;TZID=Europe/Rome:20260519T190000
UID:EC0A2848-AD73-44FE-B2CB-6DA426A79459
SUMMARY:Caregiver Day:2026
CREATED:20260424T102113Z
DTSTAMP:20260424T102113Z
DESCRIPTION:Terzo appuntamento della ressegna Cargiver Day 2026, un ciclo di incontri promosso sul territorio da ASC InSieme, in collaborazione con l'Azienda USL di Bologna Distretto Reno Lavino Samoggia con l’obiettivo di riconoscere, sostenere e valorizzare il ruolo dei/delle caregiver, figure fondamentali nella rete della cura.\NTema dell'incontro: \NRiconoscere, attraversare, ascoltare, vivere le emozioni della cura\NLaboratorio esperienziale a cura di Serena Vegna - Counselor Umanistico Esistenziale ad indirizzo Gestaltico\Nvai alla notizia
X-ALT-DESC;FMTTYPE=text/html:<p>Terzo appuntamento della ressegna&nbsp;<strong>Cargiver Day 2026</strong>, un ciclo di incontri promosso sul&nbsp;territorio da ASC InSieme, in collaborazione con l'Azienda USL di Bologna Distretto Reno&nbsp;Lavino Samoggia con l’obiettivo di&nbsp;<strong>riconoscere, sostenere e valorizzare il ruolo dei/delle&nbsp;caregiver, figure fondamentali nella rete della cura</strong>.</p><p>Tema dell'incontro:&nbsp;</p><p><strong>Riconoscere, attraversare, ascoltare, vivere le emozioni della cura</strong></p><p>Laboratorio esperienziale&nbsp;a cura di Serena Vegna - Counselor Umanistico Esistenziale ad indirizzo Gestaltico</p><p><a href="index.php/archivio-notizie/4674-caregiver-day-2026">vai alla notizia</a></p>
LOCATION:Piazza Rita Levi Montalcini\, Casalecchio di reno\, Bologna 40033\, Italia
GEO:44.47581444;11.27437897
LAST-MODIFIED:20260424T123424Z
SEQUENCE:7991
X-ACCESS:1
X-HITS:0
X-URL:https://www.unionerenolavinosamoggia.bo.it/ucrls16/index.php?option=com_dpcalendar&view=event&id=13&calid=588
X-COLOR:13cf1f
X-SHOW-END-TIME:1
END:VEVENT
BEGIN:VEVENT
DTSTART;TZID=Europe/Rome:20260528T163000
DTEND;TZID=Europe/Rome:20260528T183000
UID:A596E906-E5C6-424D-BEC5-B08EFD1BF4E1
SUMMARY:Noi caregiver
CREATED:20260424T122605Z
DTSTAMP:20260424T122605Z
DESCRIPTION:Spazio di ascolto dedicato ai caregiver e alla persona di cui si prendono cura\NLocandina
X-ALT-DESC;FMTTYPE=text/html:<p>Spazio di ascolto dedicato ai caregiver e alla persona di cui si prendono cura</p><p><strong><a href="images/UCRLS_2026/Notizie/calendario_spazio_dascolto_noi-caregiver_2025_-26.pdf">Locandina</a></strong></p>
LOCATION:Piazza Rita Levi Montalcini\, Casalecchio di reno\, Bologna 40033\, Italia
GEO:44.47581444;11.27437897
X-ACCESS:1
X-HITS:0
X-URL:https://www.unionerenolavinosamoggia.bo.it/ucrls16/index.php?option=com_dpcalendar&view=event&id=20&calid=588
X-COLOR:3366cc
X-SHOW-END-TIME:1
END:VEVENT
BEGIN:VEVENT
DTSTART;TZID=Europe/Rome:20260529T143000
DTEND;TZID=Europe/Rome:20260529T163000
UID:0AF646AF-DFF1-460A-AA78-F59567FF125A
SUMMARY:Caregiver Day 2026
CREATED:20260424T110249Z
DTSTAMP:20260424T110249Z
DESCRIPTION:Ultimo appuntamento della ressegna Cargiver Day 2026, un ciclo di incontri promosso sul territorio da ASC InSieme, in collaborazione con l'Azienda USL di Bologna Distretto Reno Lavino Samoggia con l’obiettivo di riconoscere, sostenere e valorizzare il ruolo dei/delle caregiver, figure fondamentali nella rete della cura.\NTema dell'incontro: Allenarsi alla cura: una camminata per connettersi e fare comunità\NCamminata con letture, meditazione e momento conviviale a cura del gruppo di ginnastica caregiver di Monte San Pietro\NRitrovo nel parcheggio della Palestra\Nvai alla notizia
X-ALT-DESC;FMTTYPE=text/html:<p>Ultimo appuntamento della ressegna&nbsp;<strong>Cargiver Day 2026</strong>, un ciclo di incontri promosso sul&nbsp;territorio da ASC InSieme, in collaborazione con l'Azienda USL di Bologna Distretto Reno&nbsp;Lavino Samoggia con l’obiettivo di&nbsp;<strong>riconoscere, sostenere e valorizzare il ruolo dei/delle&nbsp;caregiver, figure fondamentali nella rete della cura</strong>.</p><p>Tema dell'incontro:&nbsp;<strong><span style="background-color: inherit; color: inherit; font-family: inherit; font-size: 1rem; caret-color: auto;">Allenarsi alla cura: una camminata per connettersi e fare comunità</span></strong></p><p>Camminata con letture, meditazione e momento conviviale&nbsp;a cura del gruppo di ginnastica caregiver di Monte San Pietro</p><p>Ritrovo nel parcheggio della Palestra</p><p><a href="index.php/archivio-notizie/4674-caregiver-day-2026">vai alla notizia</a></p>
LOCATION:11 Gullini\, Monte San Pietro\, Bologna 40050\, Italia
GEO:44.46770124;11.19944176
LAST-MODIFIED:20260424T123435Z
SEQUENCE:5506
X-ACCESS:1
X-HITS:0
X-URL:https://www.unionerenolavinosamoggia.bo.it/index.php/archivio-notizie/4674-caregiver-day-2026
X-COLOR:13cf1f
X-SHOW-END-TIME:1
END:VEVENT
END:VCALENDAR